BEGIN:VCALENDAR
VERSION:2.0
PRODID:-//eventon.com NONSGML v1.0//EN
CALSCALE:GREGORIAN
METHOD:PUBLISH
BEGIN:VEVENT
UID:69e4d8918b4ad
DTSTAMP:20260419T132849Z
DTSTART:20220519
DTEND:20220520
LOCATION:EBS Universität für Wirtschaft und Recht EBS Universität für Wirtschaft und Recht EBS Campus Schloss\,   Rheingaustraße 1\,  65375 Oestrich-Winkel
SUMMARY:Zertifikatsprogramm Interim Executive (EBS) –  17. Jahrgang
DESCRIPTION:Zertifikatsprogramm Interim Executive (EBS) 17. Jahrgang &nbsp;
  Seit 2004 bietet die Executive School der EBS Universität für Wirtschaft
  und Recht diese in Deutschland einmalige Weiterbildung im Interim Manageme
 nt an. Das Interim Executives Progamme richtet sich an Neueinsteiger und e
 tablierte Interim Manager und dient der Definition und Schärfung des eigen
 en Profils\,  der[..]\nhttps://ddim.de/events/zertifikatsprogramm-interim-e
 xecutive-ebs-17-jahrgang/
URL:https://ddim.de/events/zertifikatsprogramm-interim-executive-ebs-17-jahrgang/
END:VEVENT
END:VCALENDAR