BEGIN:VCALENDAR
VERSION:2.0
PRODID:-//eventon.com NONSGML v1.0//EN
CALSCALE:GREGORIAN
METHOD:PUBLISH
BEGIN:VEVENT
UID:69e4d8caa0c08
DTSTAMP:20260419T132946Z
DTSTART:20250410T160000Z
DTEND:20250410T200000Z
LOCATION:Spreespeicher Event GmbH Stralauer Allee 2 10245 Berlin Spreespeicher Event GmbH\,  Stralauer Allee 2\,  10245 Berlin
SUMMARY:DDIM.regional // Berlin - 10. April 2025
DESCRIPTION:. Tipps für erfolgreiches Interim Management &#8211; Provider 
 und Sozietäten geben Insights für Ihren Erfolg! . Am Donnerstag\,  den 10
 . April 2025\,  startet die DDIM.regional //Berlin &#8211; der neue Aufbruc
 h für Interim Manager. Wir laden Interim Manager\,  Provider-Vertreter und
  alle Interessierten herzlich ein\,  gemeinsam neue erfolgreiche Wege im In
 terim Management[..]\nhttps://ddim.de/events/ddim-regional-berlin-10-april-
 2025/
URL:https://ddim.de/events/ddim-regional-berlin-10-april-2025/
END:VEVENT
END:VCALENDAR