BEGIN:VCALENDAR
VERSION:2.0
PRODID:-//eventon.com NONSGML v1.0//EN
CALSCALE:GREGORIAN
METHOD:PUBLISH
BEGIN:VEVENT
UID:69e4c076b79fd
DTSTAMP:20260419T114558Z
DTSTART:20181220T180000Z
DTEND:20181220T210000Z
LOCATION:Rheinterrassen - Gasthaus am Fluss Rheinterrassen â€“ Gasthaus am Fluss\,  Rheinpromenade 15\,  68163 Mannheim
SUMMARY:DDIM.lokal // Mannheim
DESCRIPTION:DDIM.lokal (Stammtisch) bietet Interim Managern\,  Providern\, 
  Multiplikatoren wie WirtschaftsprÃ¼fern\,  Steuerberatern und AnwÃ¤lten so
 wie weiteren Interessierten die MÃ¶glichkeit\,  sich in zwangloser AtmosphÃ
 ¤re Ã¼ber die Entwicklungen\,  Erfahrungen und Neuerungen im Interim Manage
 ment Markt zu informieren und zu diskutieren. Eine Mitgliedschaft ist fÃ¼r 
 die Teilnahme nicht erforderlich. Jeder ist herzlich willkommen. Wir wÃ¼rde
 n[..]\nhttps://ddim.de/events/ddim-lokal-mannheim/
URL:https://ddim.de/events/ddim-lokal-mannheim/
END:VEVENT
END:VCALENDAR