BEGIN:VCALENDAR
VERSION:2.0
PRODID:-//eventon.com NONSGML v1.0//EN
CALSCALE:GREGORIAN
METHOD:PUBLISH
BEGIN:VEVENT
UID:69e4ebe9c3b82
DTSTAMP:20260419T145121Z
DTSTART:20260220T100000Z
DTEND:20260220T160000Z
LOCATION:Panzerhalle Salzburg\,  Siezenheimer Str. 39a\,  5020 Salzburg Panzerhalle Salzburg\,  REVOX Showroom\,  Siezenheimer Str. 39a\,  5020 Salzburg\,  Österreich
SUMMARY:DDIM.wissen // forma.start.klar. Praxisworkshop für Interim Manager - 20.02.2026 in Salzburg
DESCRIPTION:Praxis-Workshop für Interim Manager. Und für die\,  die es we
 rden wollen. . Warum dieser Workshop? Der Interim-Management-Markt verände
 rt sich spürbar. Die Zahl erfahrener Interim Manager wächst\,  gleichzeit
 ig werden Auswahlprozesse strukturierter\,  schneller und anspruchsvoller. 
 Nicht mehr allein die fachliche Kompetenz entscheidet über den Zuschlag\, 
  sondern Klarheit\,  Positionierung und persönlicher Auftritt. forma.start
 .klar.[..]\nhttps://ddim.de/events/ddim-wissen-forma-start-klar-praxisworks
 hop-fuer-interim-manager-20-02-2026-in-salzburg/
URL:https://ddim.de/events/ddim-wissen-forma-start-klar-praxisworkshop-fuer-interim-manager-20-02-2026-in-salzburg/
END:VEVENT
END:VCALENDAR