BEGIN:VCALENDAR
VERSION:2.0
PRODID:-//eventon.com NONSGML v1.0//EN
CALSCALE:GREGORIAN
METHOD:PUBLISH
BEGIN:VEVENT
UID:69e4d94d224c3
DTSTAMP:20260419T133157Z
DTSTART:20260305T170000Z
DTEND:20260305T210000Z
LOCATION:grafengrün. restaurant\,  Rennbahnstraße 24 – 26\,  40629 Düsseldorf grafengrün restaurant\,  Rennbahnstraße 24 – 26\,  40629 Düsseldorf
SUMMARY:DDIM.regional // Düsseldorf - 5. März 2026
DESCRIPTION:Der Interim-Markt im Wandel &#8211; Neue Herausforderungen für
  Marketing und Positionierung . Der Interim-Markt ist intransparenter gewor
 den: Auf ein über Jahre gewachsenes Marktvolumen trifft heute eine stark a
 usgeweitete Angebotsseite\,  da viele freigesetzte Manager als Interim Mana
 ger in den Markt drängen\,  während die Zahl der Mandate stagniert oder s
 inkt. Gleichzeitig treten[..]\nhttps://ddim.de/events/ddim-regional-duessel
 dorf-5-maerz-2026/
URL:https://ddim.de/events/ddim-regional-duesseldorf-5-maerz-2026/
END:VEVENT
END:VCALENDAR