BEGIN:VCALENDAR
VERSION:2.0
PRODID:-//eventon.com NONSGML v1.0//EN
CALSCALE:GREGORIAN
METHOD:PUBLISH
BEGIN:VEVENT
UID:69e4c07544653
DTSTAMP:20260419T114557Z
DTSTART:20260319T173000Z
DTEND:20260319T210000Z
LOCATION:Hotel FREIZEIT IN Hotel FREIZEIT IN\,  Dransfelder StraÃŸe 3\,  37079 GÃ¶ttingen
SUMMARY:DDIM.lokal // GÃ¶ttingen - 19. MÃ¤rz 2026
DESCRIPTION:DDIM.lokal (Stammtisch) bietet Interim Managern\,  Providern\, 
  Multiplikatoren wie WirtschaftsprÃ¼fern\,  Steuerberatern und AnwÃ¤lten so
 wie weiteren Interessierten die MÃ¶glichkeit\,  sich in zwangloser AtmosphÃ
 ¤re Ã¼ber die Entwicklungen\,  Erfahrungen und Neuerungen im Interim Manage
 ment Markt zu informieren und zu diskutieren. Thema des Abends: . Agentic A
 I in Action Social Selling auf LinkedIn â€“ jenseits[..]\nhttps://ddim.de/e
 vents/ddim-lokal-goettingen-19-maerz-2026/
URL:https://ddim.de/events/ddim-lokal-goettingen-19-maerz-2026/
END:VEVENT
END:VCALENDAR