BEGIN:VCALENDAR
VERSION:2.0
PRODID:-//eventon.com NONSGML v1.0//EN
CALSCALE:GREGORIAN
METHOD:PUBLISH
BEGIN:VEVENT
UID:69e4c4d3e71fd
DTSTAMP:20260419T120435Z
DTSTART:20260312T173000Z
DTEND:20260312T210000Z
LOCATION:Historische BratwurstkÃ¼che Zum gulden Stern Historische BratwurstkÃ¼che Zum gulden Stern\,  Zirkelschmiedsgasse 26\,  90402 NÃ¼rnberg
SUMMARY:DDIM.lokal // NÃ¼rnberg - 12. MÃ¤rz 2026
DESCRIPTION:DDIM.lokal (Stammtisch) bietet Interim Managern\,  Providern\, 
  Multiplikatoren wie WirtschaftsprÃ¼fern\,  Steuerberatern und AnwÃ¤lten so
 wie weiteren Interessierten die MÃ¶glichkeit\,  sich in zwangloser AtmosphÃ
 ¤re Ã¼ber die Entwicklungen\,  Erfahrungen und Neuerungen im Interim Manage
 ment Markt zu informieren und zu diskutieren. Freuen Sie sich auf einen spa
 nnenden und praxisnahen Vortrag von Dr. Tobias BerblingerÂ zum Thema:[..]\n
 https://ddim.de/events/ddim-lokal-nuernberg-12-maerz-2026/
URL:https://ddim.de/events/ddim-lokal-nuernberg-12-maerz-2026/
END:VEVENT
END:VCALENDAR