BEGIN:VCALENDAR
VERSION:2.0
PRODID:-//eventon.com NONSGML v1.0//EN
CALSCALE:GREGORIAN
METHOD:PUBLISH
BEGIN:VEVENT
UID:69e4ef8bd9982
DTSTAMP:20260419T150651Z
DTSTART:20261126T180000Z
DTEND:20261126T200000Z
LOCATION:sparkm im Loft 360 sparkm im Loft 360\,  Friedensplatz 2-4 (1. Stock)\,  64283 Darmstadt
SUMMARY:DDIM.lokal // Darmstadt - 26. November 2026
DESCRIPTION:DDIM.lokal (Stammtisch) bietet Interim Managern\,  Providern\, 
  Multiplikatoren wie WirtschaftsprÃ¼fern\,  Steuerberatern und AnwÃ¤lten so
 wie weiteren Interessierten die MÃ¶glichkeit\,  sich in zwangloser AtmosphÃ
 ¤re Ã¼ber die Entwicklungen\,  Erfahrungen und Neuerungen im Interim Manage
 ment Markt zu informieren und zu diskutieren. Wenn Sie teilnehmen mÃ¶chten\
 ,  melden Sie sich bitte unbedingt Ã¼ber den untenstehenden Link an.[..]\nh
 ttps://ddim.de/events/ddim-lokal-darmstadt-26-november-2026/
URL:https://ddim.de/events/ddim-lokal-darmstadt-26-november-2026/
END:VEVENT
END:VCALENDAR