BEGIN:VCALENDAR
VERSION:2.0
PRODID:-//eventon.com NONSGML v1.0//EN
CALSCALE:GREGORIAN
METHOD:PUBLISH
BEGIN:VEVENT
UID:69e4d95441ff1
DTSTAMP:20260419T133204Z
DTSTART:20260129T180000Z
DTEND:20260129T210000Z
LOCATION:Restaurant Stuttgarter StÃ¤ffele Restaurant Stuttgarter StÃ¤ffele\,  Buschlestrasse 2a/b\,  70178 Stuttgart
SUMMARY:DDIM.lokal // Stuttgart - 29. Januar 2026
DESCRIPTION:DDIM.lokal (Stammtisch) bietet Interim Managern\,  Providern\, 
  Multiplikatoren wie WirtschaftsprÃ¼fern\,  Steuerberatern und AnwÃ¤lten so
 wie weiteren Interessierten die MÃ¶glichkeit\,  sich in zwangloser AtmosphÃ
 ¤re Ã¼ber die Entwicklungen\,  Erfahrungen und Neuerungen im Interim Manage
 ment Markt zu informieren und zu diskutieren. Wenn Sie teilnehmen mÃ¶chten\
 ,  melden Sie sich bitte unbedingt Ã¼ber den untenstehenden Link an.[..]\nh
 ttps://ddim.de/events/ddim-lokal-stuttgart-29-januar-2026/
URL:https://ddim.de/events/ddim-lokal-stuttgart-29-januar-2026/
END:VEVENT
END:VCALENDAR