BEGIN:VCALENDAR
VERSION:2.0
PRODID:-//eventon.com NONSGML v1.0//EN
CALSCALE:GREGORIAN
METHOD:PUBLISH
BEGIN:VEVENT
UID:69e4d89310348
DTSTAMP:20260419T132851Z
DTSTART:20260122T180000Z
DTEND:20260122T210000Z
LOCATION:Hofbräu Wirtshaus Speersort Hamburg Hofbräu Wirtshaus Speersort Hamburg\,  Speersort 1\,  20095 Hamburg
SUMMARY:DDIM.lokal // Hamburg - 22. Januar 2026
DESCRIPTION:. DDIM.lokal // Hamburg . Zünftiger Start ins neue Jahr im Hof
 bräu Wirtshaus Hamburg . DDIM.lokal (Stammtisch) bietet Interim Managern\,
   Providern\,  Multiplikatoren wie Wirtschaftsprüfern\,  Steuerberatern un
 d Anwälten sowie weiteren Interessierten die Möglichkeit\,  sich in zwang
 loser Atmosphäre über die Entwicklungen\,  Erfahrungen und Neuerungen im 
 Interim Management Markt zu informieren und zu[..]\nhttps://ddim.de/events/
 ddim-lokal-hamburg-22-januar-2026/
URL:https://ddim.de/events/ddim-lokal-hamburg-22-januar-2026/
END:VEVENT
END:VCALENDAR