BEGIN:VCALENDAR
VERSION:2.0
PRODID:-//eventon.com NONSGML v1.0//EN
CALSCALE:GREGORIAN
METHOD:PUBLISH
BEGIN:VEVENT
UID:69e516862f3c0
DTSTAMP:20260419T175310Z
DTSTART:20250918T163000Z
DTEND:20250918T200000Z
LOCATION:Treffpunkt: Rückseite des Dammtor Bahnhofs am Zaun vor Planten un Blomen Dag-Hammarskjöld-Platz\,  20 Hamburg\,  Deutschland
SUMMARY:DDIM.lokal // Hamburg - 18. September 2025 - Walk & Talk
DESCRIPTION:. DDIM.lokal // Hamburg &#8211; Walk &amp; Talk . Am 18. Septem
 ber 2025 laden wir Euch herzlich zum nächsten DDIM.lokal_HH ein – und di
 esmal verbinden wir Networking\,  Bewegung und Impact miteinander. Zwei Tag
 e vor dem World Cleanup Day machen wir den Auftakt:Wir treffen uns um 18:30
  Uhr an der Rückseite[..]\nhttps://ddim.de/events/ddim-lokal-hamburg-18-se
 ptember-2025-walk-talk/
URL:https://ddim.de/events/ddim-lokal-hamburg-18-september-2025-walk-talk/
END:VEVENT
END:VCALENDAR