BEGIN:VCALENDAR
VERSION:2.0
PRODID:-//eventon.com NONSGML v1.0//EN
CALSCALE:GREGORIAN
METHOD:PUBLISH
BEGIN:VEVENT
UID:69e52b185599f
DTSTAMP:20260419T192056Z
DTSTART:20251016T110000Z
DTEND:20251017T123000Z
LOCATION:Buchalik Brömmekamp Rechtsanwaltsgesellschaft mbH Buchalik Brömmekamp Rechtsanwaltsgesellschaft mbH\,  Prinzenallee 15\,  40549 Düsseldorf
SUMMARY:BV ESUG - Herbstseminare 16./17. Oktober 2025 - Teil 2
DESCRIPTION:BV ESUG &#8211; Herbstseminare &#8211; 16./17.10.2025 Der BV ES
 UG lädt zu seinen jährlichen Herbstseminaren ein. Die Seminare finden al
 s Präsenzveranstaltung in den Geschäftsräumen des BV ESUG (Buchalik Brö
 mmekamp\,  Prinzenallee 15\,  40549 Düsseldorf) statt. Parkplätze stehen 
 in der Tiefgarage zur Verfügung. Es besteht zudem die Möglichkeit\,  auch
  Online via Microsoft Teams teilzunehmen.[..]\nhttps://ddim.de/events/bv-es
 ug-herbstseminare-16-17-oktober-2025-teil-2/
URL:https://ddim.de/events/bv-esug-herbstseminare-16-17-oktober-2025-teil-2/
END:VEVENT
END:VCALENDAR