BEGIN:VCALENDAR
VERSION:2.0
PRODID:-//eventon.com NONSGML v1.0//EN
CALSCALE:GREGORIAN
METHOD:PUBLISH
BEGIN:VEVENT
UID:69e5436fa478f
DTSTAMP:20260419T210447Z
DTSTART:20250911T110000Z
DTEND:20250912T123000Z
LOCATION:Buchalik Brömmekamp Rechtsanwaltsgesellschaft mbH Buchalik Brömmekamp Rechtsanwaltsgesellschaft mbH\,  Prinzenallee 15\,  40549 Düsseldorf
SUMMARY:BV ESUG - Herbstseminare 11./12. September 2025 - Teil 1
DESCRIPTION:BV ESUG &#8211; Herbstseminare &#8211; 11./12.09.2025 Der BV ES
 UG lädt zu seinen jährlichen Herbstseminaren ein. Die Seminare finden al
 s Präsenzveranstaltung in den Geschäftsräumen des BV ESUG (Buchalik Brö
 mmekamp\,  Prinzenallee 15\,  40549 Düsseldorf) statt. Parkplätze stehen 
 in der Tiefgarage zur Verfügung. Es besteht zudem die Möglichkeit\,  auch
  Online via Microsoft Teams teilzunehmen.[..]\nhttps://ddim.de/events/bv-es
 ug-herbstseminare-11-12-september-2025-teil-1/
URL:https://ddim.de/events/bv-esug-herbstseminare-11-12-september-2025-teil-1/
END:VEVENT
END:VCALENDAR