BEGIN:VCALENDAR
VERSION:2.0
PRODID:-//eventon.com NONSGML v1.0//EN
CALSCALE:GREGORIAN
METHOD:PUBLISH
BEGIN:VEVENT
UID:69e4d8fde23aa
DTSTAMP:20260419T133037Z
DTSTART:20250911T160000Z
DTEND:20250911T200000Z
LOCATION:Haus der Bayerischen Wirtschaft (Münchner Saal) Haus der Bayerischen Wirtschaft\,  Max-Joseph-Straße 5\,  80333 München
SUMMARY:DDIM.regional // München - 11. September 2025
DESCRIPTION:Künstliche Intelligenz im Mandat &#8211; Was zählt ist der Im
 pact . Am Donnerstag\,  dem 11. September 2025\,  findet die nächste DDIM.
 regional // München statt\,  zu der wir Interim Manager\,  Provider-Vertre
 ter und Interessenten herzlich einladen! Ein konkreter Business Case\,  ein
  klarer Nutzen\,  eine strategische Rolle für Interim Manager. Mit Live-Fa
 llstudie\,  Unternehmensblick[..]\nhttps://ddim.de/events/ddim-regional-mue
 nchen-11-september-2025/
URL:https://ddim.de/events/ddim-regional-muenchen-11-september-2025/
END:VEVENT
END:VCALENDAR