BEGIN:VCALENDAR
VERSION:2.0
PRODID:-//eventon.com NONSGML v1.0//EN
CALSCALE:GREGORIAN
METHOD:PUBLISH
BEGIN:VEVENT
UID:69e4c48d2ffb9
DTSTAMP:20260419T120325Z
DTSTART:20250925T160000Z
DTEND:20250925T200000Z
LOCATION:HOLM House of Logistics and Mobility GmbH HOLM House of Logistics and Mobility GmbH\,  Bessie-Coleman-Straße 7\,  Gateway Gardens\,  60549 Frankfurt am Main
SUMMARY:DDIM.regional // Frankfurt - 25.  September 2025
DESCRIPTION:Künstliche Intelligenz und Datensicherheit: Wie ist in der Pra
 xis mit den neuen gesetzlichen Änderungen (EU AI und EU Data Act) umzugehe
 n? Künstliche Intelligenz und Datensicherheit: Wie ist in der Praxis mit d
 en neuen gesetzlichen Änderungen (EU AI und EU Data Act) umzugehen? Die An
 forderungen sind komplex\,  die Gesetzeslage eindeutig. Erfahrung[..]\nhttp
 s://ddim.de/events/ddim-regional-frankfurt-25-september-2025/
URL:https://ddim.de/events/ddim-regional-frankfurt-25-september-2025/
END:VEVENT
END:VCALENDAR