BEGIN:VCALENDAR
VERSION:2.0
PRODID:-//eventon.com NONSGML v1.0//EN
CALSCALE:GREGORIAN
METHOD:PUBLISH
BEGIN:VEVENT
UID:69eceb07cd0ab
DTSTAMP:20260425T162543Z
DTSTART:20250711T063000Z
DTEND:20250711T150000Z
LOCATION:SRH Hochschule Heidelberg SRH Hochschule Heidelberg\,  Ludwig-Guttmann-Str. 6\,  69123 Heidelberg
SUMMARY:DDIM.wissen // Transformationskonferenz - 2025
DESCRIPTION:Transformationskonferenz . Wirksame Transformation im Mittelsta
 nd: Konferenz für Geschäftsmodell- und Kulturwandel in der Praxis DAS GRO
 SSE TREFFEN DER TRANSFORMATIONSSZENE IN DEUTSCHLAND Digitalisierung und Nac
 hhaltigkeit sind die großen Themen der heutigen Zeit und stellen insbeson
 dere den Mittelstand vor neue unternehmerische Herausforderungen. Wenn dies
 e Transformation gelingen soll\,  dann braucht es eine grundlegend neue Ku
 ltur[..]\nhttps://ddim.de/events/ddim-wissen-transformationskonferenz-2025/
URL:https://ddim.de/events/ddim-wissen-transformationskonferenz-2025/
END:VEVENT
END:VCALENDAR