BEGIN:VCALENDAR
VERSION:2.0
PRODID:-//eventon.com NONSGML v1.0//EN
CALSCALE:GREGORIAN
METHOD:PUBLISH
BEGIN:VEVENT
UID:69ecd22368e5e
DTSTAMP:20260425T143931Z
DTSTART:20250514T073000Z
DTEND:20250515T123000Z
LOCATION:Hilton Frankfurt City Centre Hilton Frankfurt City Centre\,  Hochstraße 4\,  60313 Frankfurt am Main
SUMMARY:Handelsblatt Jahrestagung Restrukturierung 2025
DESCRIPTION:Handelsblatt Jahrestagung Restrukturierung 2025 Fix\,  Sell\,  
 Close &#8211; Wette auf die Zukunft In einer Zeit\,  in der wirtschaftliche
  Unsicherheiten Unternehmen vor große Herausforderungen stellen\,  sind zu
 kunftsweisende Entscheidungen wichtiger denn je. Unter dem Leitmotiv „fix
 \,  sell\,  close – Wette auf die Zukunft“ werden Sie eingeladen\,  mit
  führenden Expertinnen und Experten aus[..]\nhttps://ddim.de/events/handel
 sblatt-jahrestagung-restrukturierung-2025/
URL:https://ddim.de/events/handelsblatt-jahrestagung-restrukturierung-2025/
END:VEVENT
END:VCALENDAR