BEGIN:VCALENDAR
VERSION:2.0
PRODID:-//eventon.com NONSGML v1.0//EN
CALSCALE:GREGORIAN
METHOD:PUBLISH
BEGIN:VEVENT
UID:69ecd0fb8c195
DTSTAMP:20260425T143435Z
DTSTART:20250429T160000Z
DTEND:20250429T200000Z
LOCATION:Haus der Bayerischen Wirtschaft (MÃ¼nchner Saal) Haus der Bayerischen Wirtschaft\,  Max-Joseph-StraÃŸe 5\,  80333 MÃ¼nchen
SUMMARY:DDIM.regional // MÃ¼nchen - 29. April 2025
DESCRIPTION:Helden oder Handlanger\,  Generalisten oder Experten\,  Nischen
 kenner oder Globalplayer â€“ Wer Ã¼berlebt den Interim-Dschungel? &nbsp; Am
  Dienstag\,  dem 29. April 2025 \,  findet die nÃ¤chste DDIM.regional // MÃ
 ¼nchen in Kooperation mit dem IfUS Institut fÃ¼r Unternehmenssanierung stat
 t. Hierzu laden wir Sie als Interim Manager\,  Provider-Vertreter und Inter
 essenten ganz herzlich ein![..]\nhttps://ddim.de/events/ddim-regional-muenc
 hen-29-april-2025/
URL:https://ddim.de/events/ddim-regional-muenchen-29-april-2025/
END:VEVENT
END:VCALENDAR