BEGIN:VCALENDAR
VERSION:2.0
PRODID:-//eventon.com NONSGML v1.0//EN
CALSCALE:GREGORIAN
METHOD:PUBLISH
BEGIN:VEVENT
UID:69eb7eafa777e
DTSTAMP:20260424T143111Z
DTSTART:20250320T180000Z
DTEND:20250320T200000Z
LOCATION:Hamburg Zentrum Hamburg Zentrum
SUMMARY:DDIM.lokal // Hamburg - 20.03.2025 / kitchen talk mit TOPOS Personalberatung
DESCRIPTION:. DDIM.lokal // Hamburg &#8211; 20.03.2025/ kitchen talk mit TO
 POS Personalberatung . Thema: Interim Management für den Mittelstand in Kr
 isenzeiten: Wie bleiben wir auch in schwierigen Zeiten relevant? . Die Auft
 ragslage schwankt\,  Budgets werden enger – doch die Notwendigkeit\,  fle
 xibel und schnell zu reagieren\,  bleibt. In vielen mittelständischen Unte
 rnehmen sind[..]\nhttps://ddim.de/events/ddim-lokal-hamburg-20-03-2025-kitc
 hen-talk-mit-topos-personalberatung/
URL:https://ddim.de/events/ddim-lokal-hamburg-20-03-2025-kitchen-talk-mit-topos-personalberatung/
END:VEVENT
END:VCALENDAR