BEGIN:VCALENDAR
VERSION:2.0
PRODID:-//eventon.com NONSGML v1.0//EN
CALSCALE:GREGORIAN
METHOD:PUBLISH
BEGIN:VEVENT
UID:69eb63e731bfd
DTSTAMP:20260424T123655Z
DTSTART:20250509T070000Z
DTEND:20250510T150000Z
LOCATION:Burg Schwarzenstein Burg Schwarzenstein Rosengasse 32 65366 Geisenheim - Johannisberg
SUMMARY:19. AIMP Jahresforum 2025 und AIMP-academy
DESCRIPTION:19. AIMP Jahresforum 2025 und AIMP-academy. Â  Aktuell haben vi
 ele Interim Management Projekte bei Unternehmen mit Transformation zu tun.Â
  Eine Unternehmens Transformation beschreibt den umfassenden Wandel eines U
 nternehmens\,  um sich an neue Marktbedingungen\,  Technologien oder intern
 e Anforderungen anzupassen. Dieser Prozess kann verschiedene Dimensionen um
 fassen: Strategie und Vision: Ãœberdenken und Neuausrichtung der[..]\nhttps
 ://ddim.de/events/19-aimp-jahresforum-2025-und-aimp-academy/
URL:https://ddim.de/events/19-aimp-jahresforum-2025-und-aimp-academy/
END:VEVENT
END:VCALENDAR