BEGIN:VCALENDAR
VERSION:2.0
PRODID:-//eventon.com NONSGML v1.0//EN
CALSCALE:GREGORIAN
METHOD:PUBLISH
BEGIN:VEVENT
UID:69eb4d86c6a86
DTSTAMP:20260424T110126Z
DTSTART:20250322T083000Z
DTEND:20250322T160000Z
LOCATION:Pullman Cologne Pullman Cologne\,  Helenenstraße 14\,  50667 Cologne
SUMMARY:International Interim Management Conference 2025
DESCRIPTION:Interim Management Conference 2025 We are pleased to invite you
  to the International Interim Management Conference 2025\,  where leading i
 nterim executives\,  providers\,  and industry experts will gather to discu
 ss the latest developments in the European interim market. This conference 
 offers a platform for knowledge exchange\,  networking\,  and practical ins
 ights into[..]\nhttps://ddim.de/events/international-interim-management-con
 ference-2025/
URL:https://ddim.de/events/international-interim-management-conference-2025/
END:VEVENT
END:VCALENDAR