BEGIN:VCALENDAR
VERSION:2.0
PRODID:-//eventon.com NONSGML v1.0//EN
CALSCALE:GREGORIAN
METHOD:PUBLISH
BEGIN:VEVENT
UID:69e6362707602
DTSTAMP:20260420T142023Z
DTSTART:20251009T163000Z
DTEND:20251009T200000Z
LOCATION:Cafe &amp; Bar Celona Cafe & Bar Celona\,  Holzgraben 31\,  60313 Frankfurt
SUMMARY:DDIM.lokal // Frankfurt - 9. Oktober 2025
DESCRIPTION:DDIM.lokal (Stammtisch) bietet Interim Managern\,  Providern\, 
  Multiplikatoren wie WirtschaftsprÃ¼fern\,  Steuerberatern und AnwÃ¤lten so
 wie weiteren Interessierten die MÃ¶glichkeit\,  sich in zwangloser AtmosphÃ
 ¤re Ã¼ber die Entwicklungen\,  Erfahrungen und Neuerungen im Interim Manage
 ment Markt zu informieren und zu diskutieren. Wenn Sie teilnehmen mÃ¶chten\
 ,  melden Sie sich bitte unbedingt Ã¼ber den untenstehenden Link an.[..]\nh
 ttps://ddim.de/events/ddim-lokal-frankfurt-9-oktober-2025/
URL:https://ddim.de/events/ddim-lokal-frankfurt-9-oktober-2025/
END:VEVENT
END:VCALENDAR