BEGIN:VCALENDAR
VERSION:2.0
PRODID:-//eventon.com NONSGML v1.0//EN
CALSCALE:GREGORIAN
METHOD:PUBLISH
BEGIN:VEVENT
UID:69e4de44d73e2
DTSTAMP:20260419T135308Z
DTSTART:20250123T180000Z
DTEND:20250123T210000Z
LOCATION:Restaurant Stuttgarter StÃ¤ffele Restaurant Stuttgarter StÃ¤ffele\,  Buschlestrasse 2a/b\,  70178 Stuttgart
SUMMARY:DDIM.lokal // Stuttgart - 23. Januar 2025
DESCRIPTION:DDIM.lokal (Stammtisch) bietet Interim Managern\,  Providern\, 
  Multiplikatoren wie WirtschaftsprÃ¼fern\,  Steuerberatern und AnwÃ¤lten so
 wie weiteren Interessierten die MÃ¶glichkeit\,  sich in zwangloser AtmosphÃ
 ¤re Ã¼ber die Entwicklungen\,  Erfahrungen und Neuerungen im Interim Manage
 ment Markt zu informieren und zu diskutieren. Eine Mitgliedschaft ist fÃ¼r 
 die Teilnahme nicht erforderlich. Jeder ist herzlich willkommen. Wir wÃ¼rde
 n[..]\nhttps://ddim.de/events/ddim-lokal-stuttgart-23-januar-2025/
URL:https://ddim.de/events/ddim-lokal-stuttgart-23-januar-2025/
END:VEVENT
END:VCALENDAR