BEGIN:VCALENDAR
VERSION:2.0
PRODID:-//eventon.com NONSGML v1.0//EN
CALSCALE:GREGORIAN
METHOD:PUBLISH
BEGIN:VEVENT
UID:69e4c4f6123a5
DTSTAMP:20260419T120510Z
DTSTART:20250228T170000Z
DTEND:20250301T160000Z
LOCATION:Imlauer Hotel Pitter Salzburg\,  Event Center Imlauer Hotel Pitter Salzburg\,  Event Center\,  Rainerstraße 6\,  5020 Salzburg
SUMMARY:10. KIM - Konferenz für Interim Management
DESCRIPTION:10. KIM &#8211; Die österreichische Konferenz für Interim Man
 ager . Interim ManagerInnen – NUR DIE BESTEN! . Die DÖIM – Dachorganis
 ation österreichisches Interim Management – veranstaltet im März 2024 z
 um 10. Mal das Top Event der Interim Management Branche. Auf dieses Jubilä
 um sind wir nun besonders Stolz! Feiern Sie mit[..]\nhttps://ddim.de/events
 /10-kim-konferenz-fuer-interim-management/
URL:https://ddim.de/events/10-kim-konferenz-fuer-interim-management/
END:VEVENT
END:VCALENDAR