BEGIN:VCALENDAR
VERSION:2.0
PRODID:-//eventon.com NONSGML v1.0//EN
CALSCALE:GREGORIAN
METHOD:PUBLISH
BEGIN:VEVENT
UID:69e4de16a794d
DTSTAMP:20260419T135222Z
DTSTART:20250320T180000Z
DTEND:20250320T210000Z
LOCATION:Landbierparadies Landbierparadies\,  Sterzinger Str. 4-6\,  90461 NÃ¼rnberg
SUMMARY:DDIM.lokal // NÃ¼rnberg - 20. MÃ¤rz 2025
DESCRIPTION:DDIM.lokal (Stammtisch) bietet Interim Managern\,  Providern\, 
  Multiplikatoren wie WirtschaftsprÃ¼fern\,  Steuerberatern und AnwÃ¤lten so
 wie weiteren Interessierten die MÃ¶glichkeit\,  sich in zwangloser AtmosphÃ
 ¤re Ã¼ber die Entwicklungen\,  Erfahrungen und Neuerungen im Interim Manage
 ment Markt zu informieren und zu diskutieren. Thema: Aktuelle Lage im Inter
 im Management â€“ Studienvorstellung Die Welt befindet sich in turbulenten[
 ..]\nhttps://ddim.de/events/ddim-lokal-nuernberg-20-maerz-2025/
URL:https://ddim.de/events/ddim-lokal-nuernberg-20-maerz-2025/
END:VEVENT
END:VCALENDAR