BEGIN:VCALENDAR
VERSION:2.0
PRODID:-//eventon.com NONSGML v1.0//EN
CALSCALE:GREGORIAN
METHOD:PUBLISH
BEGIN:VEVENT
UID:69e4e33570f84
DTSTAMP:20260419T141413Z
DTSTART:20241203T170000Z
DTEND:20241203T200000Z
LOCATION:Weihnachtsmarkt auf der Fleetinsel Weihnachtsmarkt auf der Fleetinsel\,  Michaelisbrücke 1\,  20459 Hamburg
SUMMARY:DDIM.lokal // Hamburg - 3. Dezember 2024 - Weihnachtsmarktbesuch
DESCRIPTION:. Gemeinsamer Ausklang auf dem Weihnachtsmarkt . Diese Veransta
 ltung richtet sich an alle Interim Manager und Interessierte\,  sowie Provi
 der und Unternehmen. Wir freuen uns über jeden Besuch. Sichern Sie sich je
 tzt Ihren Platz und melden Sie sich an. .\nhttps://ddim.de/events/ddim-loka
 l-hamburg-3-dezember-2024-weihnachtsmarktbesuch/
URL:https://ddim.de/events/ddim-lokal-hamburg-3-dezember-2024-weihnachtsmarktbesuch/
END:VEVENT
END:VCALENDAR