BEGIN:VCALENDAR
VERSION:2.0
PRODID:-//eventon.com NONSGML v1.0//EN
CALSCALE:GREGORIAN
METHOD:PUBLISH
BEGIN:VEVENT
UID:69e4f7ff18e7a
DTSTAMP:20260419T154255Z
DTSTART:20241205T173000Z
DTEND:20241205T210000Z
LOCATION:Rosa Weihnachtsmarkt Rosa Weihnachtsmarkt\,  Friedrich-Stoltze Platz\,  60547 Frankfurt
SUMMARY:DDIM.lokal // Frankfurt - 5. Dezember 2024 - Besuch auf dem Weihnachtsmarkt
DESCRIPTION:DDIM.lokal (Stammtisch) bietet Interim Managern\,  Providern\, 
  Multiplikatoren wie WirtschaftsprÃ¼fern\,  Steuerberatern und AnwÃ¤lten so
 wie weiteren Interessierten die MÃ¶glichkeit\,  sich in zwangloser AtmosphÃ
 ¤re Ã¼ber die Entwicklungen\,  Erfahrungen und Neuerungen im Interim Manage
 ment Markt zu informieren und zu diskutieren. Eine Mitgliedschaft ist fÃ¼r 
 die Teilnahme nicht erforderlich. Jeder ist herzlich willkommen.\nhttps://d
 dim.de/events/ddim-lokal-frankfurt-5-dezember-2024-besuch-auf-dem-weihnacht
 smarkt/
URL:https://ddim.de/events/ddim-lokal-frankfurt-5-dezember-2024-besuch-auf-dem-weihnachtsmarkt/
END:VEVENT
END:VCALENDAR