BEGIN:VCALENDAR
VERSION:2.0
PRODID:-//eventon.com NONSGML v1.0//EN
CALSCALE:GREGORIAN
METHOD:PUBLISH
BEGIN:VEVENT
UID:69e5128b77e87
DTSTAMP:20260419T173611Z
DTSTART:20251119T090000Z
DTEND:20251119T160000Z
LOCATION:
SUMMARY:DDIM.wissen // CDO Aachen 2025 „Creating Sustainable Value“
DESCRIPTION:CDO Aachen 2025 – Beyond the AI Buzz: Creating Sustainable Va
 lue – Online Convention on Digital Opportunities Aachen – Mittwoch\,  1
 9. November 2025 – 10:00 &#8211; 17:00 h Artificial Intelligence is no lo
 nger just a trend; it’s a strategic driver of measurable business value a
 nd sustainable transformation towards an Upgrade[..]\nhttps://ddim.de/event
 s/cdo-aachen-2025-beyond-the-ai-buzz-creating-sustainable-value/
URL:https://ddim.de/events/cdo-aachen-2025-beyond-the-ai-buzz-creating-sustainable-value/
END:VEVENT
END:VCALENDAR