BEGIN:VCALENDAR
VERSION:2.0
PRODID:-//eventon.com NONSGML v1.0//EN
CALSCALE:GREGORIAN
METHOD:PUBLISH
BEGIN:VEVENT
UID:69e592da02639
DTSTAMP:20260420T024338Z
DTSTART:20240912T110000Z
DTEND:20240913T123000Z
LOCATION:Buchalik Brömmekamp Rechtsanwaltsgesellschaft mbH Buchalik Brömmekamp Rechtsanwaltsgesellschaft mbH\,  Prinzenallee 15\,  40549 Düsseldorf
SUMMARY:BV ESUG - Herbstseminare 12./13. September 2024
DESCRIPTION:BV ESUG &#8211; Herbstseminare &#8211; 12/13.09.2024 Der BV ESU
 G lädt zu seinen jährlichen Herbstseminaren ein (Online und Präsenz-Teil
 nahme) Die Seminare finden als Präsenzveranstaltung in den Geschäftsräum
 en des BV ESUG (Buchalik Brömmekamp\,  Prinzenallee 15\,  40549 Düsseldor
 f) statt. Parkplätze stehen in der Tiefgarage zur Verfügung. Es besteht z
 udem die Möglichkeit\,  auch Online[..]\nhttps://ddim.de/events/bv-esug-he
 rbstseminare-12-13-september-2024/
URL:https://ddim.de/events/bv-esug-herbstseminare-12-13-september-2024/
END:VEVENT
END:VCALENDAR