BEGIN:VCALENDAR
VERSION:2.0
PRODID:-//eventon.com NONSGML v1.0//EN
CALSCALE:GREGORIAN
METHOD:PUBLISH
BEGIN:VEVENT
UID:69e54dad3c1b7
DTSTAMP:20260419T214829Z
DTSTART:20241128T180000Z
DTEND:20241128T210000Z
LOCATION:Bootshaus MS Rodenkirchen Bootshaus MS Rodenkirchen\,  Rodenkirchener Leinpfad\,  50996 KÃ¶ln
SUMMARY:DDIM.lokal // KÃ¶ln - 28. November 2024 - Adventsspecial & Jahresausklang
DESCRIPTION:DDIM.lokal (Stammtisch) bietet Interim Managern\,  Providern\, 
  Multiplikatoren wie WirtschaftsprÃ¼fern\,  Steuerberatern und AnwÃ¤lten so
 wie weiteren Interessierten die MÃ¶glichkeit\,  sich in zwangloser AtmosphÃ
 ¤re Ã¼ber die Entwicklungen\,  Erfahrungen und Neuerungen im Interim Manage
 ment Markt zu informieren und zu diskutieren. Eine Mitgliedschaft ist fÃ¼r 
 die Teilnahme nicht erforderlich. Jeder ist herzlich willkommen. Wir wÃ¼rde
 n[..]\nhttps://ddim.de/events/ddim-lokal-koeln-28-november-2024/
URL:https://ddim.de/events/ddim-lokal-koeln-28-november-2024/
END:VEVENT
END:VCALENDAR