BEGIN:VCALENDAR
VERSION:2.0
PRODID:-//eventon.com NONSGML v1.0//EN
CALSCALE:GREGORIAN
METHOD:PUBLISH
BEGIN:VEVENT
UID:69e50739c2aed
DTSTAMP:20260419T164753Z
DTSTART:20240809T063000Z
DTEND:20240809T090000Z
LOCATION:Digital
SUMMARY:DDIM.wissen // GenAI & CHATGPT für Interim Manager - August 2024
DESCRIPTION:Intensiv-Training mit maximal 16 Teilnehmenden. Lerne in der AI
  Summer School 2024\,  wie Du als Interim Manager durch den praktischen Ein
 satz von GenAI die Produktivität und Effizienz in Deinem Mandat steigern u
 nd bessere Tagessätze durchsetzen kannst. Diese viertägige Summer School 
 bietet Interim Managern eine umfassende Einführung in die Welt von[..]\nht
 tps://ddim.de/events/genai-chatgpt-fuer-interim-manager-august-2024/
URL:https://ddim.de/events/genai-chatgpt-fuer-interim-manager-august-2024/
END:VEVENT
END:VCALENDAR