BEGIN:VCALENDAR
VERSION:2.0
PRODID:-//eventon.com NONSGML v1.0//EN
CALSCALE:GREGORIAN
METHOD:PUBLISH
BEGIN:VEVENT
UID:69e4c4e55cc98
DTSTAMP:20260419T120453Z
DTSTART:20250317T163000Z
DTEND:20250317T180000Z
LOCATION:Virtuell Zoom
SUMMARY:DDIM.virtuell // Antragstellung\,  Verfahren und Insolvenzplan
DESCRIPTION:Antragstellung\,  Verfahren und Insolvenzplan &nbsp; Grundlagen
  Was ist ein Insolvenzplan Darstellung der Verknüpfung von Eigenverwaltung
  und Insolvenzplan Strukturen eines Insolvenzplans Planinitiativrecht Betei
 ligte am Plan. Materielle und formelle Ausschlussklauseln im Lichte der Rec
 htsprechung und Gesetzgebung Darstellender Teil Vergleichsrechnung als Herz
 stück des Insolvenzplans Dual Track ja oder nein? Gruppenbildung als Gesta
 ltungsinstrument Plangestaltungen[..]\nhttps://ddim.de/events/ddim-virtuell
 -antragstellung-verfahren-und-insolvenzplan/
URL:https://ddim.de/events/ddim-virtuell-antragstellung-verfahren-und-insolvenzplan/
END:VEVENT
END:VCALENDAR