BEGIN:VCALENDAR
VERSION:2.0
PRODID:-//eventon.com NONSGML v1.0//EN
CALSCALE:GREGORIAN
METHOD:PUBLISH
BEGIN:VEVENT
UID:69e4ef1789a69
DTSTAMP:20260419T150455Z
DTSTART:20241018T070000Z
DTEND:20241018T150000Z
LOCATION:FH Kufstein Fachhochschule Kufstein Tirol\,  Andreas Hofer-Straße 7\,  A-6330 Kufstein
SUMMARY:13. Internationales Symposium Restrukturierung
DESCRIPTION:Auf einen Blick 400 Persönlichkeiten\,  die den Unternehmenser
 folg sichern kommen jährlich an einem Freitag im Oktober zu uns\,  um ein 
 charmantes Tagungserlebnis am Tor der Kitzbüheler Alpen zu genießen. Vort
 räge\,  Paneldiskussionen\,  Workshops sowie Networking auf der größten 
 grenzüberschreitenden Fachtagung für Transformation &amp; Turnaround im d
 eutschsprachigen Raum. 120 Vortragende haben seit[..]\nhttps://ddim.de/even
 ts/13-internationales-symposium-restrukturierung/
URL:https://ddim.de/events/13-internationales-symposium-restrukturierung/
END:VEVENT
END:VCALENDAR