BEGIN:VCALENDAR
VERSION:2.0
PRODID:-//eventon.com NONSGML v1.0//EN
CALSCALE:GREGORIAN
METHOD:PUBLISH
BEGIN:VEVENT
UID:69e4de78d6582
DTSTAMP:20260419T135400Z
DTSTART:20240820T170000Z
DTEND:20240820T200000Z
LOCATION:Sonnendeck St. Pauli Sonnendeck St. Pauli\,  Hamburg Wasser\,  Bei den Sankt Pauli-Landungsbrücken 49\,  20359 Hamburg
SUMMARY:DDIM.lokal // Hamburg - 20. August 2024 - Sommer-Stammtisch an der Elbe
DESCRIPTION:. Sommer-Stammtisch auf dem Sonnendeck St. Pauli . Mit sensatio
 nellem Blick auf die Elbe und den Hamburger Hafen wollen wir uns mit Ihnen 
 zu einem kollegialen Austausch treffen. Diese Veranstaltung richtet sich an
  alle Interim Manager und Interessierte\,  sowie Provider und Unternehmen. 
 Wir freuen uns über jeden Besuch. Sichern Sie[..]\nhttps://ddim.de/events/
 ddim-lokal-hamburg-20-august-2024-sommer-stammtisch-an-der-elbe/
URL:https://ddim.de/events/ddim-lokal-hamburg-20-august-2024-sommer-stammtisch-an-der-elbe/
END:VEVENT
END:VCALENDAR