BEGIN:VCALENDAR
VERSION:2.0
PRODID:-//eventon.com NONSGML v1.0//EN
CALSCALE:GREGORIAN
METHOD:PUBLISH
BEGIN:VEVENT
UID:69e4d94e6273b
DTSTAMP:20260419T133158Z
DTSTART:20240621T063000Z
DTEND:20240621T150000Z
LOCATION:SRH Hochschule Heidelberg SRH Hochschule Heidelberg\,  Ludwig-Guttmann-Str. 6\,  69123 Heidelberg
SUMMARY:DDIM.wissen // Transformationskonferenz - 2024
DESCRIPTION:Transformationskonferenz . Wirksame Transformation im Mittelsta
 nd: Konferenz für Geschäftsmodell- und Kulturwandel in der Praxis DAS GRO
 SSE TREFFEN DER TRANSFORMATIONSSZENE IN DEUTSCHLAND Digitalisierung und Nac
 hhaltigkeit sind die großen Themen der heutigen Zeit und stellen insbeson
 dere den Mittelstand vor neue unternehmerische Herausforderungen. Wenn dies
 e Transformation gelingen soll\,  dann braucht es eine grundlegend neue Ku
 ltur[..]\nhttps://ddim.de/events/transformationskonferenz-2024/
URL:https://ddim.de/events/transformationskonferenz-2024/
END:VEVENT
END:VCALENDAR