BEGIN:VCALENDAR
VERSION:2.0
PRODID:-//eventon.com NONSGML v1.0//EN
CALSCALE:GREGORIAN
METHOD:PUBLISH
BEGIN:VEVENT
UID:69e4c4e3852f9
DTSTAMP:20260419T120451Z
DTSTART:20250915T070000Z
DTEND:20250919T150000Z
LOCATION:Cluster Smart Logistik auf dem RWTH Aachen Campus Cluster Smart Logistik auf dem RWTH Aachen Campus Campus-Boulevard 55 52074 Aachen
SUMMARY:DDIM.wissen // RWTH-Zertifikatskurs - Digital Transformation Expert - 2025
DESCRIPTION:RWTH-Zertifikatskurs &#8211; Digital Transformation Expert Zuku
 nft gestalten: Werden Sie Digital Transformation Expert – Entwickeln Sie 
 nachhaltige Strategien und setzen Sie zukunftsweisende Digitalisierungsmaß
 nahmen erfolgreich um. Als Digital Transformation Expert lernen Sie\,  nach
 haltige und wegweisende Strategien zu entwickeln\,  um die digitale Transfo
 rmation Ihres Unternehmens von der Vision bis zur Umsetzung voranzutreiben.
  Dazu[..]\nhttps://ddim.de/events/rwth-zertifikatskurs-digital-transformati
 on-expert-2025/
URL:https://ddim.de/events/rwth-zertifikatskurs-digital-transformation-expert-2025/
END:VEVENT
END:VCALENDAR