BEGIN:VCALENDAR
VERSION:2.0
PRODID:-//eventon.com NONSGML v1.0//EN
CALSCALE:GREGORIAN
METHOD:PUBLISH
BEGIN:VEVENT
UID:69e4c4d566004
DTSTAMP:20260419T120437Z
DTSTART:20250312T080000Z
DTEND:20250312T150000Z
LOCATION:FIR-Konferenzzentrum auf dem RWTH Aachen Campus Campus-Boulevard 55\,  52074 Aachen
SUMMARY:DDIM.wissen // RWTH-Zertifikatskurs - Digital Product Manager – Modul 1
DESCRIPTION:RWTH-Zertifikatskurs &#8211; Digital Product Manager Kurs Früh
 jahr 2025 // Modul I // 12. – 14.03.2025 Bei der Entwicklung digitaler Pr
 odukte kommt es darauf an\,  die richtigen Tools und Prozesse zu identifizi
 eren\,  um entsprechende Ressourcen klug einzusetzen. Ziel ist es\,  das Th
 emenfeld digitales Produktmanagement und Produktentwicklung erfolgreich und
  zeitgemäß zu gestalten.[..]\nhttps://ddim.de/events/rwth-zertifikatskurs
 -digital-product-manager-1/
URL:https://ddim.de/events/rwth-zertifikatskurs-digital-product-manager-1/
END:VEVENT
END:VCALENDAR