BEGIN:VCALENDAR
VERSION:2.0
PRODID:-//eventon.com NONSGML v1.0//EN
CALSCALE:GREGORIAN
METHOD:PUBLISH
BEGIN:VEVENT
UID:69e4d89b9d492
DTSTAMP:20260419T132859Z
DTSTART:20240321T174500Z
DTEND:20240321T200000Z
LOCATION:Virtuell [Zoom] Zoom
SUMMARY:DDIM.virtuell // Experiment: KI Anwendungsfälle beim Kunden
DESCRIPTION:Anwendungsfälle für KI beim Kunden erkennen Reporting\,  Prod
 uktionsmanagement oder andere Abläufe in der gesamten Wertschöpfungskette
  von Einkauf bis Vertrieb mit KI effizienter gestalten? Als Interim Manager
  erkennen wir die Probleme des Kunden und finden die richtigen Lösungspart
 ner mit flexiblen und erprobten state-of-the Art Methoden. In unserem DDIM.
 virtuell Event am 21.03.2024[..]\nhttps://ddim.de/events/ddim-virtuell-expe
 riment-ki-anwendungsfaelle-beim-kunden/
URL:https://ddim.de/events/ddim-virtuell-experiment-ki-anwendungsfaelle-beim-kunden/
END:VEVENT
END:VCALENDAR