BEGIN:VCALENDAR
VERSION:2.0
PRODID:-//eventon.com NONSGML v1.0//EN
CALSCALE:GREGORIAN
METHOD:PUBLISH
BEGIN:VEVENT
UID:69e4eed4e5863
DTSTAMP:20260419T150348Z
DTSTART:20240418T170000Z
DTEND:20240418T200000Z
LOCATION:GaststÃ¤tte RÃ¶mming GaststÃ¤tte RÃ¶mming\,  Apfelstr. 2\,  91054 Erlangen
SUMMARY:DDIM.lokal // Erlangen - 18. April 2024
DESCRIPTION:DDIM.lokal (Stammtisch) bietet Interim Managern\,  Providern\, 
  Multiplikatoren wie WirtschaftsprÃ¼fern\,  Steuerberatern und AnwÃ¤lten so
 wie weiteren Interessierten die MÃ¶glichkeit\,  sich in zwangloser AtmosphÃ
 ¤re Ã¼ber die Entwicklungen\,  Erfahrungen und Neuerungen im Interim Manage
 ment Markt zu informieren und zu diskutieren. Eine Mitgliedschaft ist fÃ¼r 
 die Teilnahme nicht erforderlich. Jeder ist herzlich willkommen. Wenn Sie[.
 .]\nhttps://ddim.de/events/ddim-lokal-erlangen-18-april-2024/
URL:https://ddim.de/events/ddim-lokal-erlangen-18-april-2024/
END:VEVENT
END:VCALENDAR