BEGIN:VCALENDAR
VERSION:2.0
PRODID:-//eventon.com NONSGML v1.0//EN
CALSCALE:GREGORIAN
METHOD:PUBLISH
BEGIN:VEVENT
UID:69e4c48a3658f
DTSTAMP:20260419T120322Z
DTSTART:20240503T070000Z
DTEND:20240503T154500Z
LOCATION:EBS Universität für Wirtschaft und Recht EBS Universität für Wirtschaft und Recht EBS Campus Schloss\,   Rheingaustraße 1\,  65375 Oestrich-Winkel
SUMMARY:DDIM.wissen // Zertifikatsprogramm zum Interim Executives (EBS)
DESCRIPTION:Interim Executives Programme an der EBS &nbsp; Laut Experten zi
 eht der Wettbewerb im Interim Management Markt an. Neben fachlichen Kompete
 nzen sind vor allem Ihre klare Positionierung und Botschaft ausschlaggebend
  für ein Mandat.   Meistern Sie die 5 Phasen Ihres Mandats &#8211; inkl. 
 Ihres Profils Im Interim Executives Programme erarbeiten Sie[..]\nhttps://d
 dim.de/events/zertifikatsprogramm-zum-interim-executives-ebs/
URL:https://ddim.de/events/zertifikatsprogramm-zum-interim-executives-ebs/
END:VEVENT
END:VCALENDAR