BEGIN:VCALENDAR
VERSION:2.0
PRODID:-//eventon.com NONSGML v1.0//EN
CALSCALE:GREGORIAN
METHOD:PUBLISH
BEGIN:VEVENT
UID:69e4c4e6085c9
DTSTAMP:20260419T120454Z
DTSTART:20231019T070000Z
DTEND:20231019T150000Z
LOCATION:Buchalik BrÃ¶mmekamp Rechtsanwaltsgesellschaft mbH Buchalik BrÃ¶mmekamp Rechtsanwaltsgesellschaft mbH\,  Prinzenallee 15\,  40549 DÃ¼sseldorf
SUMMARY:BV ESUG - Herbstseminar - 19.10.2023
DESCRIPTION:BV ESUG &#8211; Herbstseminar &#8211; 19.10.2023 . 09:00 â€“ 16
 :30 Uhr â€žGrundfragen des Insolvenz- und Gesellschaftsrechtsâ€œ Referent:Â
  Referent: Cornelius Nickert. Er ist Rechtsanwalt &amp; Steuerberater\,  Fa
 chanwalt fÃ¼r Steuerrecht\,  Fachanwalt fÃ¼r Insolvenz- und Sanie-rungsrech
 t\,  *CVA (Certified Valuation Analyst\,  verliehen durch www.eacva.de) und
  Beirat der RMA Risk Management &amp; Rating Association e.V.\,  dem[..]\nh
 ttps://ddim.de/events/bv-esug-herbstseminar-19-10-2023/
URL:https://ddim.de/events/bv-esug-herbstseminar-19-10-2023/
END:VEVENT
END:VCALENDAR