BEGIN:VCALENDAR
VERSION:2.0
PRODID:-//eventon.com NONSGML v1.0//EN
CALSCALE:GREGORIAN
METHOD:PUBLISH
BEGIN:VEVENT
UID:69e4d8caab0ca
DTSTAMP:20260419T132946Z
DTSTART:20230922T070000Z
DTEND:20230922T131500Z
LOCATION:Buchalik Brömmekamp Rechtsanwaltsgesellschaft mbH Buchalik Brömmekamp Rechtsanwaltsgesellschaft mbH\,  Prinzenallee 15\,  40549 Düsseldorf
SUMMARY:BV ESUG - Herbstseminar - 22.09.2023
DESCRIPTION:BV ESUG &#8211; Herbstseminar &#8211; 22.09.2023 . 09:00 – 10
 :30 Uhr „Warum eine reine Sanierung der Passivseite durch ein ESUG-Verfah
 ren nicht ausreicht“ Referent: Andreas Schmieg (Dipl.-oec.)\,  Geschäf
 tsführer der plenovia GmbH und Wirtschaftsmediator Inhalt: Der Gesetzgebe
 r hat für den Fall eines sanierungsfähigen Unternehmens bei drohender ode
 r bereits eingetretener Zahlungsunfähigkeit das Instrument der Eigenverwal
 tung geschaffen.[..]\nhttps://ddim.de/events/bv-esug-herbstseminar-22-09-20
 23/
URL:https://ddim.de/events/bv-esug-herbstseminar-22-09-2023/
END:VEVENT
END:VCALENDAR