BEGIN:VCALENDAR
VERSION:2.0
PRODID:-//eventon.com NONSGML v1.0//EN
CALSCALE:GREGORIAN
METHOD:PUBLISH
BEGIN:VEVENT
UID:69e4c0776866d
DTSTAMP:20260419T114559Z
DTSTART:20230705T113000Z
DTEND:20230705T130000Z
LOCATION:
SUMMARY:IIM Webinar: The 2023 Survey â€“ Women in the Interim Market â€“ What women in the industry think
DESCRIPTION:IIM Webinar: The 2023 Survey â€“ Women in the Interim Market â€
 “ What women in the industry think &nbsp; . About this Event: The last of t
 his yearâ€™s webinars spinning off from the 2023 Interim Management Survey.
  A panel of leading female ISP Consultants and practicing Interims share th
 eir views[..]\nhttps://ddim.de/events/iim-webinar-the-2023-survey-women-in-
 the-interim-market-what-women-in-the-industry-think/
URL:https://ddim.de/events/iim-webinar-the-2023-survey-women-in-the-interim-market-what-women-in-the-industry-think/
END:VEVENT
END:VCALENDAR