BEGIN:VCALENDAR
VERSION:2.0
PRODID:-//eventon.com NONSGML v1.0//EN
CALSCALE:GREGORIAN
METHOD:PUBLISH
BEGIN:VEVENT
UID:69e4d94d1052a
DTSTAMP:20260419T133157Z
DTSTART:20231020T080000Z
DTEND:20231021T141500Z
LOCATION:SRH Hochschule Heidelberg SRH Hochschule Heidelberg\,  Ludwig-Guttmann-Str. 6\,  69123 Heidelberg
SUMMARY:Update Seminar - Aktuelle Entwicklungen in der Restrukturierungs- und Sanierung - inkl. StaRUG
DESCRIPTION:Aktuelle Entwicklungen in der Restrukturierung &amp; Sanierung 
 (inkl. StaRUG) . Ziel des 2-tägigen Update-Seminars ist es\,  über die ne
 uen Entwicklungen (Rechtsprechung\,  neue Standards\,  StaRUG etc.) im Bere
 ich Restrukturierung / Sanierung zu informieren. Dieses Seminar richtet sic
 h an Absolventen des Lehrgangs Restrukturierungs- und Sanierungsberater\,  
 oder Personen mit gleichwertiger Vorqualifikation\,  die ihr[..]\nhttps://d
 dim.de/events/update-seminar-aktuelle-entwicklungen-in-der-restrukturierung
 s-und-sanierung-inkl-starug/
URL:https://ddim.de/events/update-seminar-aktuelle-entwicklungen-in-der-restrukturierungs-und-sanierung-inkl-starug/
END:VEVENT
END:VCALENDAR