BEGIN:VCALENDAR
VERSION:2.0
PRODID:-//eventon.com NONSGML v1.0//EN
CALSCALE:GREGORIAN
METHOD:PUBLISH
BEGIN:VEVENT
UID:69e636dad71ad
DTSTAMP:20260420T142322Z
DTSTART:20230922T080000Z
DTEND:20231125T151500Z
LOCATION:SRH Hochschule Heidelberg SRH Hochschule Heidelberg\,  Ludwig-Guttmann-Str. 6\,  69123 Heidelberg
SUMMARY:Zertifikatslehrgang Transformations- und Turnaround-Manager
DESCRIPTION:Zertifikatslehrgang Transformations- und Turnaround-Manager . M
 achen Sie sich als Führungskraft fit\,  um den Wandel aktiv zu gestalten .
  Viele Unternehmen scheitern\,  weil sie notwendige Veränderungsprozesse s
 chlicht und ergreifend zu spät anstoßen oder nicht mit der nötigen Konse
 quenz umsetzen. Der in Deutschland einzigartiger Zertifikatslehrgang &#8222
 ;Transformations- &amp; Turnaround-Manager&#8220; vermittelt Geschäftsfüh
 rern\,  CROs (Interim-Managern)\, [..]\nhttps://ddim.de/events/zertifikatsl
 ehrgang-transformations-und-turnaround-manager-september-2023/
URL:https://ddim.de/events/zertifikatslehrgang-transformations-und-turnaround-manager-september-2023/
END:VEVENT
END:VCALENDAR