BEGIN:VCALENDAR
VERSION:2.0
PRODID:-//eventon.com NONSGML v1.0//EN
CALSCALE:GREGORIAN
METHOD:PUBLISH
BEGIN:VEVENT
UID:69e4c8473ef08
DTSTAMP:20260419T121919Z
DTSTART:20221215T175000Z
DTEND:20221215T200000Z
LOCATION:Virtuell [Zoom] Zoom
SUMMARY:DDIM.virtuell // X-mas Special - Chancen 2023 in einer sich gravierend verändernden Welt
DESCRIPTION:Anstehende Rezession\,  globaler Machtkampf der (politischen) S
 ysteme\,  Lieferkettenprobleme\,  neue Regulierungen\,  Klimawandel\,  Gree
 n Deal &amp; Co\,  Fachkräftemangel… &#8211; Welt und Wirtschaft stehen 
 vor gravierenden\,  sehr schnellen Transformationsprozessen! Wie können un
 d müssen wir uns im Interim Management darauf einstellen? Nichts für die 
 „Couch Potato“: Es wird\,  wie im letzten Jahr\,  ein kreativer[..]\nht
 tps://ddim.de/events/ddim-virtuell-x-mas-special-chancen-2023-in-einer-sich
 -gravierend-veraendernden-welt/
URL:https://ddim.de/events/ddim-virtuell-x-mas-special-chancen-2023-in-einer-sich-gravierend-veraendernden-welt/
END:VEVENT
END:VCALENDAR