BEGIN:VCALENDAR
VERSION:2.0
PRODID:-//eventon.com NONSGML v1.0//EN
CALSCALE:GREGORIAN
METHOD:PUBLISH
BEGIN:VEVENT
UID:69e4c4d3d23b6
DTSTAMP:20260419T120435Z
DTSTART:20221013T090000Z
DTEND:20221013T160000Z
LOCATION:Buchalik Brömmekamp Rechtsanwaltsgesellschaft mbH Buchalik Brömmekamp Rechtsanwaltsgesellschaft mbH\,  Prinzenallee 15\,  40549 Düsseldorf
SUMMARY:BV ESUG - Herbstseminar - 13.10.2022
DESCRIPTION:BV ESUG &#8211; Workshop zum Risikomanagement . Nach der letzte
 n BV-ESUG-Fortbildungsveranstaltung zum Thema Risikomanagement wurde von de
 n Teilnehmern gewünscht\,  dieses Thema in einem praxisorientierten Worksh
 op zu vertiefen. Im Workshop Risikomanagement sollen die Teilnehmer nach ei
 nem Impulsvortrag auf Basis ihrer praktischen Erfahrungen gemeinsam ein Kri
 senfrüherkennungssystem entwickeln. Es soll abgestimmt werden\,  welche[..
 ]\nhttps://ddim.de/events/bv-esug-herbstseminar-13-10-2022/
URL:https://ddim.de/events/bv-esug-herbstseminar-13-10-2022/
END:VEVENT
END:VCALENDAR