BEGIN:VCALENDAR
VERSION:2.0
PRODID:-//eventon.com NONSGML v1.0//EN
CALSCALE:GREGORIAN
METHOD:PUBLISH
BEGIN:VEVENT
UID:69e4d93409169
DTSTAMP:20260419T133132Z
DTSTART:20221128T090000Z
DTEND:20221129T160000Z
LOCATION:Design Office Hannover Vahrenwald Design Office Hannover Vahrenwald\,  Philipsbornstr. 2\,  30165 Hannover
SUMMARY:ESG Seminar - November 2022 - Hannover
DESCRIPTION:ESG Seminar &nbsp; ESG-Grundlagenwissen von führenden Beratung
 shäusern und Hochschulen für Geschäftsführer\,  Vorstände\,  Aufsichts
 räte\,  Beiräte\,  Nachhaltigkeitsverantwortliche\,  Interim Manager\,  U
 nternehmensberater\,  Finanz-\,  und Reporting-Verantwortliche Interim Mana
 ger bekommen Einblicke in diese Themen: Sustainable Finance-Regulatorik CO2
 -Footprint-Erstellung nach Greenhouse Gas Protocol Komponenten einer Nachha
 ltigkeits-Strategie Nachhaltigkeits-Reporting nach den gängigen Standards 
 DNK und GRI ESG-Rating und Nachhaltige Finanzierungsinstrumente[..]\nhttps:
 //ddim.de/events/esg-seminar-november-2022-hannover/
URL:https://ddim.de/events/esg-seminar-november-2022-hannover/
END:VEVENT
END:VCALENDAR