BEGIN:VCALENDAR
VERSION:2.0
PRODID:-//eventon.com NONSGML v1.0//EN
CALSCALE:GREGORIAN
METHOD:PUBLISH
BEGIN:VEVENT
UID:69e4c48c20462
DTSTAMP:20260419T120324Z
DTSTART:20220830T160000Z
DTEND:20220830T190000Z
LOCATION:Kursaal Hotel Heiden Kursaal Hotel Heiden\,  Seeallee 8\,  Heiden\,  Schweiz
SUMMARY:VRIM Vortrag - Working Capital als Basis für die Effizienz
DESCRIPTION:Working Capital als Basis für die Effizienz &nbsp; Working Cap
 ital ist ein hoch effizienter Barometer für die operative Effektivität ei
 nes  Unternehmens. Je besser die Konditionen\,  desto deutlicher ist das U
 nternehmen in der Lage\,  sich auf seine  Kernkompetenzen zu konzentrieren
 . In seinen regelmäßigen Vortragsreihen greift der VRIM immer wieder wich
 tige Business-Themen[..]\nhttps://ddim.de/events/vrim-vortrag-working-capit
 al-als-basis-fuer-die-effizienz/
URL:https://ddim.de/events/vrim-vortrag-working-capital-als-basis-fuer-die-effizienz/
END:VEVENT
END:VCALENDAR