BEGIN:VCALENDAR
VERSION:2.0
PRODID:-//eventon.com NONSGML v1.0//EN
CALSCALE:GREGORIAN
METHOD:PUBLISH
BEGIN:VEVENT
UID:69e4ecaabeffd
DTSTAMP:20260419T145434Z
DTSTART:20220902T160000Z
DTEND:20220903T143000Z
LOCATION:Imlauer Hotel Pitter Salzburg\,  Event Center Imlauer Hotel Pitter Salzburg\,  Event Center\,  Rainerstraße 6\,  5020 Salzburg
SUMMARY:7. KIM - Konferenz für Interim Management
DESCRIPTION:7. KIM &#8211; Die österreichische Konferenz für Interim Mana
 ger   Die bunte Welt des Interim Managements . Die Konferenz für Interim-
 Management der DÖIM findet seit 2015 jährlich statt und hat sich zu einer
  bedeutenden Veranstaltung der gesamten Interim Management-Branche in Öste
 rreich entwickelt. Mittlerweile besuchen regelmäßig insgesamt über 150 G
 äste die Veranstaltung[..]\nhttps://ddim.de/events/7-kim-konferenz-fuer-i
 nterim-management/
URL:https://ddim.de/events/7-kim-konferenz-fuer-interim-management/
END:VEVENT
END:VCALENDAR